BEGIN:VCALENDAR
VERSION:2.0
PRODID:-//Architecture Foundation of Oregon - ECPv6.15.20//NONSGML v1.0//EN
CALSCALE:GREGORIAN
METHOD:PUBLISH
X-WR-CALNAME:Architecture Foundation of Oregon
X-ORIGINAL-URL:https://www.af-oregon.org
X-WR-CALDESC:Events for Architecture Foundation of Oregon
REFRESH-INTERVAL;VALUE=DURATION:PT1H
X-Robots-Tag:noindex
X-PUBLISHED-TTL:PT1H
BEGIN:VTIMEZONE
TZID:America/Los_Angeles
BEGIN:DAYLIGHT
TZOFFSETFROM:-0800
TZOFFSETTO:-0700
TZNAME:PDT
DTSTART:20240310T100000
END:DAYLIGHT
BEGIN:STANDARD
TZOFFSETFROM:-0700
TZOFFSETTO:-0800
TZNAME:PST
DTSTART:20241103T090000
END:STANDARD
BEGIN:DAYLIGHT
TZOFFSETFROM:-0800
TZOFFSETTO:-0700
TZNAME:PDT
DTSTART:20250309T100000
END:DAYLIGHT
BEGIN:STANDARD
TZOFFSETFROM:-0700
TZOFFSETTO:-0800
TZNAME:PST
DTSTART:20251102T090000
END:STANDARD
BEGIN:DAYLIGHT
TZOFFSETFROM:-0800
TZOFFSETTO:-0700
TZNAME:PDT
DTSTART:20260308T100000
END:DAYLIGHT
BEGIN:STANDARD
TZOFFSETFROM:-0700
TZOFFSETTO:-0800
TZNAME:PST
DTSTART:20261101T090000
END:STANDARD
END:VTIMEZONE
BEGIN:VEVENT
DTSTART;TZID=America/Los_Angeles:20250913T120000
DTEND;TZID=America/Los_Angeles:20250913T170000
DTSTAMP:20260425T060833
CREATED:20250911T175705Z
LAST-MODIFIED:20250911T215545Z
UID:10000598-1757764800-1757782800@www.af-oregon.org
SUMMARY:Saturday Academy Yard Sale
DESCRIPTION:Saturday Academy Yard Sale\nHosted by Saturday Academy \nJoin us for a Saturday Academy Yard Sale! \nWhat You’ll Find at the Yard Sale: \n\nPC Desktops & Old Laptops for parts\nGeneral Office Supplies\nOffice Furniture: Desks\, Rolling Chairs\, Mesh Chairs\, Standing Desks\nScience Kits & Microscopes\nProjectors\, Whiteboards\, Pull-down Projector Screens\n…and more!\n\nWhen: Saturday\, September 13\, 12-5pm\nWhere: Saturday Academy Lawn\, 5433 N McCosh\, Portland\, OR 97203\nServing: Community Members\nService Area: Portland\nTopic: STEAM\nProgram Type: Community Event\nCost: Free
URL:https://www.af-oregon.org/event/saturday-academy-yard-sale/
CATEGORIES:Oregon Student Opportunities
ATTACH;FMTTYPE=image/png:https://www.af-oregon.org/wp-content/uploads/2025/09/SA-YardSale2025.png
END:VEVENT
END:VCALENDAR