BEGIN:VCALENDAR
VERSION:2.0
PRODID:-//Architecture Foundation of Oregon - ECPv6.15.20//NONSGML v1.0//EN
CALSCALE:GREGORIAN
METHOD:PUBLISH
X-ORIGINAL-URL:https://www.af-oregon.org
X-WR-CALDESC:Events for Architecture Foundation of Oregon
REFRESH-INTERVAL;VALUE=DURATION:PT1H
X-Robots-Tag:noindex
X-PUBLISHED-TTL:PT1H
BEGIN:VTIMEZONE
TZID:America/Los_Angeles
BEGIN:DAYLIGHT
TZOFFSETFROM:-0800
TZOFFSETTO:-0700
TZNAME:PDT
DTSTART:20250309T100000
END:DAYLIGHT
BEGIN:STANDARD
TZOFFSETFROM:-0700
TZOFFSETTO:-0800
TZNAME:PST
DTSTART:20251102T090000
END:STANDARD
BEGIN:DAYLIGHT
TZOFFSETFROM:-0800
TZOFFSETTO:-0700
TZNAME:PDT
DTSTART:20260308T100000
END:DAYLIGHT
BEGIN:STANDARD
TZOFFSETFROM:-0700
TZOFFSETTO:-0800
TZNAME:PST
DTSTART:20261101T090000
END:STANDARD
BEGIN:DAYLIGHT
TZOFFSETFROM:-0800
TZOFFSETTO:-0700
TZNAME:PDT
DTSTART:20270314T100000
END:DAYLIGHT
BEGIN:STANDARD
TZOFFSETFROM:-0700
TZOFFSETTO:-0800
TZNAME:PST
DTSTART:20271107T090000
END:STANDARD
END:VTIMEZONE
BEGIN:VEVENT
DTSTART;VALUE=DATE:20260114
DTEND;VALUE=DATE:20260115
DTSTAMP:20260419T061337
CREATED:20251118T223316Z
LAST-MODIFIED:20251118T223316Z
UID:10000622-1768348800-1768435199@www.af-oregon.org
SUMMARY:ELSO's Studio Justice Youth Design Program - FREE & Students Earn Stipend
DESCRIPTION:ELSO’s Studio Justice Youth Design Program\nHosted by ELSO’s Studio Justice Program \nStudio Justice is ELSO’s design program. Studio Justice is a series of paid after-school programs and outreach events for youth ages 14-20 to learn about design as a tool enabling leadership and agency for youth. Our programs aim to expand our youth’s STEAMED career pathways to include professions in the built environment while widening their exposure to green sector careers. \nThrough this vital opportunity\, participants can find their STEAMED identities and learn about designing public spaces\, the power of place\, and health equity. \nThere are no student fees for design program events. Instead\, we ensure youth participants receive a scholarship stipend to support growth in STEAMED learning and related careers. \nWe are currently accepting applications for Studio Justice in both Oregon and Texas. \nDeadline to Register: January 14th 2026
URL:https://www.af-oregon.org/event/elsos-studio-justice-youth-design-program-free-students-earn-stipend/
LOCATION:Oregon
CATEGORIES:Oregon Student Opportunities
ATTACH;FMTTYPE=image/png:https://www.af-oregon.org/wp-content/uploads/2025/11/Screenshot-2025-11-18-143127.png
END:VEVENT
BEGIN:VEVENT
DTSTART;TZID=America/Los_Angeles:20260120T170000
DTEND;TZID=America/Los_Angeles:20260120T183000
DTSTAMP:20260419T061337
CREATED:20260107T174915Z
LAST-MODIFIED:20260107T174915Z
UID:10000635-1768928400-1768933800@www.af-oregon.org
SUMMARY:Virtual Architecture Portfolio Workshop
DESCRIPTION:Are you looking to enhance your Architectural Professional Portfolio?\nNOMA PDX and AFO are pleased to invite you to a comprehensive workshop this January 2026\, available both virtually and in person\, dedicated to refining your Architecture Portfolio. This workshop is open to individuals at all stages of their architectural education and careers\, and is intended to support your professional growth. \nDuring the sessions\, several accomplished architects and design professionals will be on hand to review your portfolio and address any questions you may have. \nTo maximize the benefits of this workshop\, please take note of the following guidelines: \n\nBe prepared to share a work-in-progress portfolio. (Bring whatever you have! A complete portfolio is not necessary.)\nVirtual Workshop: Ensure you have a digital version ready to share.\nPortland Workshop: Please bring a printed copy. If you do not have access to a printer\, email a PDF of your portfolio by January 26 to candice@af-oregon.org\, and it will be printed for you. Alternatively\, bring a device to showcase your digital portfolio.\nRest assured\, all information shared during the workshops will be kept confidential.\n\nWe look forward to your participation and helping you advance your architectural portfolio! \nREGISTER\nVirtual Workshop\nTuesday\, January 20\n5:00-6:30pm\nZoom \nStudents – Free\nNOMA & AFO Members – Free\nNon NOMA & AFO Members – $20 \nLooking to register for our Portland Workshop on January 27? Register here.
URL:https://www.af-oregon.org/event/virtual-architecture-portfolio-workshop/
LOCATION:Oregon
CATEGORIES:AFO Events,Oregon Student Opportunities
ATTACH;FMTTYPE=image/jpeg:https://www.af-oregon.org/wp-content/uploads/2025/12/PortfolioWorkshops_EventbriteBanner.jpg
ORGANIZER;CN="Candice Agahan":MAILTO:candice@af-oregon.org
END:VEVENT
BEGIN:VEVENT
DTSTART;TZID=America/Los_Angeles:20260120T180000
DTEND;TZID=America/Los_Angeles:20260120T193000
DTSTAMP:20260419T061337
CREATED:20251209T070347Z
LAST-MODIFIED:20251209T071718Z
UID:10000631-1768932000-1768937400@www.af-oregon.org
SUMMARY:Saturday Academy Internship Program - 2026 ASE Virtual Information Session #1
DESCRIPTION:Saturday Academy Internship Program – 2026 ASE Virtual Information Session #1\nHosted by Saturday Academy \nAre you interested in becoming an intern through the Apprenticeships in STEAM Exploration Program? \nRegister for this Zoom Information Session using the link below to learn more. Please explore the ASE Experience and the Application Guide in the meantime. \nRegister in advance for this meeting (required): ZOOM Registration \nAfter registering\, you will receive a confirmation email containing information about joining the meeting. \nWe look forward to seeing you there! \nTo be eligible to apply students must: \n\nHave not been an ASE intern before. A student may only have one ASE internship during their high school career. This is to ensure that more students are able to participate in the ASE program.\nBe a rising 10th\, 11th\, or 12th grader (or equivalent).\nBe interested in pursuing a career in math and science\, motivated to learn\, and prepared to participate in a professional environment.\nLive near our internship locations (usually in the Portland-Metro area\, and the Albany/Corvallis/Eugene areas) OR have adult family or friends that you can live with during the summer near our internship locations. (ASE does not provide housing for students and does not allow students to live on their own.) If you apply for positions that are greater than 50 miles from your home address or local address provided on your online application\, ASE will remove your application from those positions\, even if the position is virtual\, because all students are required to attend one in-person ASE event.\nRegardless of internship type (in-person or online)\, ASE is unable to support international applicants at this time.\nHave reliable transportation to and from our internship locations. (Public transportation is fine.) ASE does not provide transportation for students.\nHave proof of health insurance.\nApplicants may not apply for positions wherein the mentor is a family member.\n\nNote: There is no minimum age required for ASE\, but some host organizations have age requirements for their positions. For most positions with age requirements\, applicants must be the minimum age by June 16th\, but for the VA Healthcare System\, they must be 16 by May 15th. \nCheck your eligibility with this quiz! \nThe 2025 ASE internship Application is due Friday\, March 6\, 2026 @ 11:59PM \nWhen: 8-10 weeks from mid-June to the end of August\nWhere: Companies across Oregon and Southwest Washington\nServing: Rising high school sophomores\, juniors\, and seniors\nService Area: Portland-Metro area\, and the Albany/Corvallis/Eugene areas\nTopic: STEM (Science\, Technology\, Engineering\, and Math)\nProgram Type: Part-to-full-time summer internship\nCost: non-refundable $40 application processing fee
URL:https://www.af-oregon.org/event/2026-ase-virtual-information-session-1/
LOCATION:Oregon
CATEGORIES:Oregon Student Opportunities
ATTACH;FMTTYPE=image/png:https://www.af-oregon.org/wp-content/uploads/2025/12/Screenshot-2025-12-08-230323.png
END:VEVENT
BEGIN:VEVENT
DTSTART;TZID=America/Los_Angeles:20260127T170000
DTEND;TZID=America/Los_Angeles:20260127T190000
DTSTAMP:20260419T061337
CREATED:20260107T174910Z
LAST-MODIFIED:20260107T174910Z
UID:10000634-1769533200-1769540400@www.af-oregon.org
SUMMARY:Portland Architecture Portfolio Workshop
DESCRIPTION:Are you looking to enhance your Architectural Professional Portfolio?\nNOMA PDX and AFO are pleased to invite you to a comprehensive workshop this January 2026\, available both virtually and in person\, dedicated to refining your Architecture Portfolio. This workshop is open to individuals at all stages of their architectural education and careers\, and is intended to support your professional growth. \nDuring the sessions\, several accomplished architects and design professionals will be on hand to review your portfolio and address any questions you may have. \nTo maximize the benefits of this workshop\, please take note of the following guidelines: \n\nBe prepared to share a work-in-progress portfolio. (Bring whatever you have! A complete portfolio is not necessary.)\nVirtual Workshop: Ensure you have a digital version ready to share.\nPortland Workshop: Please bring a printed copy. If you do not have access to a printer\, email a PDF of your portfolio by January 26 to candice@af-oregon.org\, and it will be printed for you. Alternatively\, bring a device to showcase your digital portfolio.\nRest assured\, all information shared during the workshops will be kept confidential.\n\nWe look forward to your participation and helping you advance your architectural portfolio! \nREGISTER\nPortland Workshop\nTuesday\, January 27\n5:00-7:00pm\nScott Edwards Architecture\, 2525 E Burnside St\, Portland\, OR 97214 \nStudents – Free\nNOMA & AFO Members – Free\nNon NOMA & AFO Members – $20 \nLooking to register for our Virtual Workshop on January 20? Register here.
URL:https://www.af-oregon.org/event/portland-architecture-portfolio-workshop/
LOCATION:Scott Edwards Architecture\, 2525 East Burnside St\, Portland\, OR\, 97214\, United States
CATEGORIES:AFO Events,Oregon Student Opportunities
ATTACH;FMTTYPE=image/jpeg:https://www.af-oregon.org/wp-content/uploads/2025/12/PortfolioWorkshops_EventbriteBanner.jpg
ORGANIZER;CN="Candice Agahan":MAILTO:candice@af-oregon.org
END:VEVENT
END:VCALENDAR