BEGIN:VCALENDAR
VERSION:2.0
PRODID:-//Architecture Foundation of Oregon - ECPv6.15.20//NONSGML v1.0//EN
CALSCALE:GREGORIAN
METHOD:PUBLISH
X-ORIGINAL-URL:https://www.af-oregon.org
X-WR-CALDESC:Events for Architecture Foundation of Oregon
REFRESH-INTERVAL;VALUE=DURATION:PT1H
X-Robots-Tag:noindex
X-PUBLISHED-TTL:PT1H
BEGIN:VTIMEZONE
TZID:America/Los_Angeles
BEGIN:DAYLIGHT
TZOFFSETFROM:-0800
TZOFFSETTO:-0700
TZNAME:PDT
DTSTART:20250309T100000
END:DAYLIGHT
BEGIN:STANDARD
TZOFFSETFROM:-0700
TZOFFSETTO:-0800
TZNAME:PST
DTSTART:20251102T090000
END:STANDARD
BEGIN:DAYLIGHT
TZOFFSETFROM:-0800
TZOFFSETTO:-0700
TZNAME:PDT
DTSTART:20260308T100000
END:DAYLIGHT
BEGIN:STANDARD
TZOFFSETFROM:-0700
TZOFFSETTO:-0800
TZNAME:PST
DTSTART:20261101T090000
END:STANDARD
BEGIN:DAYLIGHT
TZOFFSETFROM:-0800
TZOFFSETTO:-0700
TZNAME:PDT
DTSTART:20270314T100000
END:DAYLIGHT
BEGIN:STANDARD
TZOFFSETFROM:-0700
TZOFFSETTO:-0800
TZNAME:PST
DTSTART:20271107T090000
END:STANDARD
END:VTIMEZONE
BEGIN:VEVENT
DTSTART;TZID=America/Los_Angeles:20260204T180000
DTEND;TZID=America/Los_Angeles:20260204T193000
DTSTAMP:20260419T092544
CREATED:20251209T071144Z
LAST-MODIFIED:20251209T071144Z
UID:10000632-1770228000-1770233400@www.af-oregon.org
SUMMARY:Saturday Academy Internship Program - 2026 ASE Virtual Information Session #2
DESCRIPTION:Saturday Academy Internship Program – 2026 ASE Virtual Information Session #2\nHosted by Saturday Academy \nAre you interested in becoming an intern through the Apprenticeships in STEAM Exploration Program? \nRegister for this Zoom Information Session using the link below to learn more. Please explore the ASE Experience and the Application Guide in the meantime. \nRegister in advance for this meeting (required): ZOOM Registration \nAfter registering\, you will receive a confirmation email containing information about joining the meeting. \nWe look forward to seeing you there! \nTo be eligible to apply students must: \n\nHave not been an ASE intern before. A student may only have one ASE internship during their high school career. This is to ensure that more students are able to participate in the ASE program.\nBe a rising 10th\, 11th\, or 12th grader (or equivalent).\nBe interested in pursuing a career in math and science\, motivated to learn\, and prepared to participate in a professional environment.\nLive near our internship locations (usually in the Portland-Metro area\, and the Albany/Corvallis/Eugene areas) OR have adult family or friends that you can live with during the summer near our internship locations. (ASE does not provide housing for students and does not allow students to live on their own.) If you apply for positions that are greater than 50 miles from your home address or local address provided on your online application\, ASE will remove your application from those positions\, even if the position is virtual\, because all students are required to attend one in-person ASE event.\nRegardless of internship type (in-person or online)\, ASE is unable to support international applicants at this time.\nHave reliable transportation to and from our internship locations. (Public transportation is fine.) ASE does not provide transportation for students.\nHave proof of health insurance.\nApplicants may not apply for positions wherein the mentor is a family member.\n\nNote: There is no minimum age required for ASE\, but some host organizations have age requirements for their positions. For most positions with age requirements\, applicants must be the minimum age by June 16th\, but for the VA Healthcare System\, they must be 16 by May 15th. \nCheck your eligibility with this quiz! \nThe 2025 ASE internship Application is due Friday\, March 6\, 2026 @ 11:59PM \nWhen: 8-10 weeks from mid-June to the end of August\nWhere: Companies across Oregon and Southwest Washington\nServing: Rising high school sophomores\, juniors\, and seniors\nService Area: Portland-Metro area\, and the Albany/Corvallis/Eugene areas\nTopic: STEM (Science\, Technology\, Engineering\, and Math)\nProgram Type: Part-to-full-time summer internship\nCost: non-refundable $40 application processing fee
URL:https://www.af-oregon.org/event/saturday-academy-internship-program-2026-ase-virtual-information-session-2/
LOCATION:Oregon
CATEGORIES:Oregon Student Opportunities
ATTACH;FMTTYPE=image/png:https://www.af-oregon.org/wp-content/uploads/2025/12/Screenshot-2025-12-08-230938.png
END:VEVENT
BEGIN:VEVENT
DTSTART;TZID=America/Los_Angeles:20260207T120000
DTEND;TZID=America/Los_Angeles:20260207T133000
DTSTAMP:20260419T092544
CREATED:20251209T071509Z
LAST-MODIFIED:20251209T071552Z
UID:10000633-1770465600-1770471000@www.af-oregon.org
SUMMARY:Saturday Academy Internship Program - 2026 ASE Virtual Information Session #3
DESCRIPTION:Saturday Academy Internship Program – 2026 ASE Virtual Information Session #3\nHosted by Saturday Academy \nAre you interested in becoming an intern through the Apprenticeships in STEAM Exploration Program? \nRegister for this Zoom Information Session using the link below to learn more. Please explore the ASE Experience and the Application Guide in the meantime. \nRegister in advance for this meeting (required): ZOOM Registration \nAfter registering\, you will receive a confirmation email containing information about joining the meeting. \nWe look forward to seeing you there! \nTo be eligible to apply students must: \n\nHave not been an ASE intern before. A student may only have one ASE internship during their high school career. This is to ensure that more students are able to participate in the ASE program.\nBe a rising 10th\, 11th\, or 12th grader (or equivalent).\nBe interested in pursuing a career in math and science\, motivated to learn\, and prepared to participate in a professional environment.\nLive near our internship locations (usually in the Portland-Metro area\, and the Albany/Corvallis/Eugene areas) OR have adult family or friends that you can live with during the summer near our internship locations. (ASE does not provide housing for students and does not allow students to live on their own.) If you apply for positions that are greater than 50 miles from your home address or local address provided on your online application\, ASE will remove your application from those positions\, even if the position is virtual\, because all students are required to attend one in-person ASE event.\nRegardless of internship type (in-person or online)\, ASE is unable to support international applicants at this time.\nHave reliable transportation to and from our internship locations. (Public transportation is fine.) ASE does not provide transportation for students.\nHave proof of health insurance.\nApplicants may not apply for positions wherein the mentor is a family member.\n\nNote: There is no minimum age required for ASE\, but some host organizations have age requirements for their positions. For most positions with age requirements\, applicants must be the minimum age by June 16th\, but for the VA Healthcare System\, they must be 16 by May 15th. \nCheck your eligibility with this quiz! \nThe 2025 ASE internship Application is due Friday\, March 6\, 2026 @ 11:59PM \nWhen: 8-10 weeks from mid-June to the end of August\nWhere: Companies across Oregon and Southwest Washington\nServing: Rising high school sophomores\, juniors\, and seniors\nService Area: Portland-Metro area\, and the Albany/Corvallis/Eugene areas\nTopic: STEM (Science\, Technology\, Engineering\, and Math)\nProgram Type: Part-to-full-time summer internship\nCost: non-refundable $40 application processing fee
URL:https://www.af-oregon.org/event/saturday-academy-internship-program-2026-ase-virtual-information-session-3/
LOCATION:Oregon
CATEGORIES:Oregon Student Opportunities
ATTACH;FMTTYPE=image/png:https://www.af-oregon.org/wp-content/uploads/2025/12/Screenshot-2025-12-08-231522.png
END:VEVENT
END:VCALENDAR