BEGIN:VCALENDAR
VERSION:2.0
PRODID:-//Architecture Foundation of Oregon - ECPv6.15.20//NONSGML v1.0//EN
CALSCALE:GREGORIAN
METHOD:PUBLISH
X-ORIGINAL-URL:https://www.af-oregon.org
X-WR-CALDESC:Events for Architecture Foundation of Oregon
REFRESH-INTERVAL;VALUE=DURATION:PT1H
X-Robots-Tag:noindex
X-PUBLISHED-TTL:PT1H
BEGIN:VTIMEZONE
TZID:America/Los_Angeles
BEGIN:DAYLIGHT
TZOFFSETFROM:-0800
TZOFFSETTO:-0700
TZNAME:PDT
DTSTART:20250309T100000
END:DAYLIGHT
BEGIN:STANDARD
TZOFFSETFROM:-0700
TZOFFSETTO:-0800
TZNAME:PST
DTSTART:20251102T090000
END:STANDARD
BEGIN:DAYLIGHT
TZOFFSETFROM:-0800
TZOFFSETTO:-0700
TZNAME:PDT
DTSTART:20260308T100000
END:DAYLIGHT
BEGIN:STANDARD
TZOFFSETFROM:-0700
TZOFFSETTO:-0800
TZNAME:PST
DTSTART:20261101T090000
END:STANDARD
BEGIN:DAYLIGHT
TZOFFSETFROM:-0800
TZOFFSETTO:-0700
TZNAME:PDT
DTSTART:20270314T100000
END:DAYLIGHT
BEGIN:STANDARD
TZOFFSETFROM:-0700
TZOFFSETTO:-0800
TZNAME:PST
DTSTART:20271107T090000
END:STANDARD
END:VTIMEZONE
BEGIN:VEVENT
DTSTART;TZID=America/Los_Angeles:20260221T100000
DTEND;TZID=America/Los_Angeles:20260516T113000
DTSTAMP:20260421T082943
CREATED:20260212T213332Z
LAST-MODIFIED:20260212T213332Z
UID:10000650-1771668000-1778931000@www.af-oregon.org
SUMMARY:AFSF - Saturday Design Studio 2026
DESCRIPTION:Saturday Design Studio 2026\nHosted by Architectural Foundation of San Francisco (AFSF) \n\nCurious about architecture & design? Want a broader understanding of the architectural profession? Ready for a deep dive into the design process? Want to work on your design skills? Developing work for your portfolio and your presentation skills? Well\, then this is your studio. \nOur architecture studio meets online every Saturday for 6 weeks. We’ll focus on developing using digital design tools. You’ll learn foundational architectural concepts and terms in the iterative design process\, moving from concept to design. At the end of our studio\, you’ll present your project. \nThe Studio is being offered 2 times (choose 1)\nSaturdays\, February 21 – March 28\, 2026\nSaturdays\, April 11 – May 16\, 2026\nOnline group sessions:\nSaturdays 6 weeks each\, 1 1/2 hours per week (10:00 am – 11:30am)\n+ Individual mentoring by a professional: 1 hr. per week (scheduled for you)\n$500 includes all materials \nMore Information \n\nWhen: Saturdays\, February 21 – March 28\, 2026\, 10-11:30am or Saturdays\, April 11 – May 16\, 2026\, 10-11:30am\nWhere: Virtual\nServing: High School Students\nService Area: USA\nTopic: Architecture\nProgram Type: Virtual Workshops\nCost: $500
URL:https://www.af-oregon.org/event/afsf-saturday-design-studio-2026/
LOCATION:Oregon
CATEGORIES:Oregon Student Opportunities
ATTACH;FMTTYPE=image/png:https://www.af-oregon.org/wp-content/uploads/2026/02/Screenshot-2026-02-12-131720.png
END:VEVENT
BEGIN:VEVENT
DTSTART;VALUE=DATE:20260331
DTEND;VALUE=DATE:20260401
DTSTAMP:20260421T082943
CREATED:20260310T164420Z
LAST-MODIFIED:20260311T215704Z
UID:10000669-1774915200-1775001599@www.af-oregon.org
SUMMARY:Bora Architecture Student Internship - Summer 2026 (Apply ASAP)
DESCRIPTION:Bora Architecture Student Internship – Summer 2026 (Apply before March 31st)\nOrganized by BORA \nAPPLY ASAP. POSTING WILL BE DELETED BY MARCH 31st. \nBora Architecture and Interiors is seeking an energetic\, self-motivated student to join our team as a Student Intern in Architecture and Design. The ideal candidate will bring fresh ideas and a diverse perspective to the Bora team\, with a desire to learn and grow\, and an interest in contributing to our creative and equitable firm culture. \nWe are committed to broadening your experience by exposing you to a variety of project types and phases of the design process\, while building relationships with staff members and supporting your professional development. This 12-week internship is being offered during the summer with a flexible start date. \nRequirements: \n\nMust be currently enrolled in an undergraduate or graduate program in the field of architecture\, interior design\, or a related field\, seeking a student internship opportunity.\nMust have a minimum of two years of higher education in architecture\, interior design\, or a related field.\nMust have the ability to collaborate in a team\, communicate ideas visually\, verbally and in writing\, are self-motivated and willing to ask questions.\nMust be available to work a hybrid schedule in-person at the Bora office located in Portland\, Oregon for the duration of the internship.\n\nAs a student intern you will: \n\nInteract regularly with a peer mentor for support and guidance.\nConnect with other team members through a series of Bora Chats that span the diverse roles within the office.\nEngage in a variety of project tasks from marketing to project completion.- Participate in project design and sustainability discussions.\nAssist with presentation materials.\nLearn to use both digital and physical tools (i.e. Revit\, Miro\, Adobe Creative Suite\, Bluebeam\, laser cutter and shop training).\nAssist the project team at various stages of design and documentation depending on the phase and assignment each week.\nAttend client\, team\, and consultant meetings to gain insight into the project communication and coordination process.\n\nThe benefits of this internship are: \n\nStructured internship experience with well-rounded exposure to a variety of roles and responsibilities within an architectural and design practice.\nAn opportunity to build meaningful relationships with professionals in the industry.\nThis internship pays $24.50 per hour.\nIn an effort to provide equal access\, relocation financial support is available.\nIn-office bike storage\n\nTo be considered\, please submit the following application materials to careers@bora.co: \n\nStatement of why you are interested in Bora and this internship opportunity.\nYour resume outlining your previous work experience\, volunteer activities\, education\, and hobbies.\nSample of your work\, such as\, sketches\, diagrams\, process work\, final renderings/drawings/illustrations\, research\, and school projects to date.\n\nDeadline:\nService Area: Portland Metro\nLocation: 1705 SE 3rd Ave\, Portland\, OR 97214\nTopic: Architecture\nPay: $24 per hour
URL:https://www.af-oregon.org/event/bora-architecture-and-interior-student-internship-summer-2026/
LOCATION:Bora Architects\, 720 SW Washington St\, Ste 800\, Portland\, OR\, 97205\, United States
CATEGORIES:Oregon Student Opportunities
ATTACH;FMTTYPE=image/png:https://www.af-oregon.org/wp-content/uploads/2026/03/Screenshot-2026-03-10-093737.png
END:VEVENT
BEGIN:VEVENT
DTSTART;VALUE=DATE:20260331
DTEND;VALUE=DATE:20260401
DTSTAMP:20260421T082943
CREATED:20260310T165204Z
LAST-MODIFIED:20260311T215551Z
UID:10000670-1774915200-1775001599@www.af-oregon.org
SUMMARY:Bora Architecture - HBCU Student Internship - Summer 2026 (Apply ASAP)
DESCRIPTION:Bora Architecture – HBCU Student Internship – Summer 2026 (Apply before March 31st)\nOrganized by BORA \nAPPLY ASAP. POSTING WILL BE DELETED BY MARCH 31st. \nBora Architecture and Interiors is seeking an energetic\, self-motivated student to join our team as a Student Intern in Architecture or Interior Design. We value fresh ideas and diverse perspectives\, and believe design is strongest when shaped by many voices. Bora intentionally fosters an equitable\, inclusive studio culture through active initiatives such as our Equity Committee and Shades of Coffee POC Affinity Group\, which supports community\, dialogue\, and accountability around equity\, diversity\, and inclusion. \nInterns are welcomed into a collaborative studio that encourages learning\, questioning\, and meaningful contribution to both design work and firm life. You will gain exposure to a range of project types and design phases while building relationships across the firm grounded in Bora’s commitment to professional growth and a more inclusive and equitable design profession. This 12-week internship is being offered during the summer with a flexible start date. \nRequirements: \n\nMust be currently enrolled in an undergraduate or graduate program at an HBCU in the field of architecture\, interior design\, or a related field\, seeking a student internship opportunity.\nMust have a minimum of two years of higher education in architecture\, interior design\, or a related field.\nMust have the ability to collaborate in a team\, communicate ideas visually\, verbally and in writing\, are self-motivated and willing to ask questions.\nMust be available to work in-person at the Bora office located in Portland\, Oregon for the duration of the internship.\n\nAs a student intern you will: \n\nRegularly meet with a peer mentor for support and guidance.\nConnect with other team members through a series of Bora Chats that span the diverse roles within the office.\nEngage in a variety of project tasks from marketing to project completion.\nParticipate in project design and sustainability discussions.\nAssist with presentation materials.\nLearn to use both digital and physical tools (i.e. Revit\, Miro\, Adobe Creative Suite\, Bluebeam\, laser cutter and shop training).\nAssist the project team at various stages of design and documentation depending on the phase and assignment each week.\nAttend client\, team\, and consultant meetings to gain insight into the project communication and coordination process.\n\nThe benefits of this internship are: \n\nStructured internship experience with well-rounded exposure to a variety of roles and responsibilities within an architectural and design practice.\nAn opportunity to build meaningful relationships with professionals in the industry.\nThis internship pays $24.50 per hour.\nIn an effort to provide equal access\, relocation financial support is available.\nIn-office bike storage\n\nTo be considered\, please submit the following application materials to careers@bora.co: \n\nStatement of why you are interested in Bora and this internship opportunity.\nYour resume outlining your previous work experience\, volunteer activities\, education\, and hobbies.\nSample of your work\, such as\, sketches\, diagrams\, process work\, final renderings/drawings/illustrations\, research\, and school projects to date.\n\nDeadline:\nService Area: Portland Metro\nLocation: 1705 SE 3rd Ave\, Portland\, OR 97214\nTopic: Architecture\nPay: $24 per hour
URL:https://www.af-oregon.org/event/bora-architecture-and-interior-hbcu-student-internship-summer-2026/
LOCATION:Bora Architects\, 720 SW Washington St\, Ste 800\, Portland\, OR\, 97205\, United States
CATEGORIES:Oregon Student Opportunities
ATTACH;FMTTYPE=image/png:https://www.af-oregon.org/wp-content/uploads/2026/03/Screenshot-2026-03-10-093737.png
END:VEVENT
BEGIN:VEVENT
DTSTART;TZID=America/Los_Angeles:20260403T090000
DTEND;TZID=America/Los_Angeles:20260403T150000
DTSTAMP:20260421T082943
CREATED:20260310T160604Z
LAST-MODIFIED:20260310T165828Z
UID:10000666-1775206800-1775228400@www.af-oregon.org
SUMMARY:Brickdiculous - My First Lego Camp - Single Day Camp
DESCRIPTION:Brickdiculous – My First Lego Camp – Single Day Camp\nHosted by  Brickdiculous  \nDates: Various\nGrades: Kindergarten – 4th Grades\nFee: $85 ($25 deposit\, $60 due at drop-off)\nDrop-off: 9am – 9:30am\nPick-up: 2:30pm-3pm \nBuilding challenges and tutorials! Games and play! Art and science! \nWe are offering Day-by Day Lego Camps during Portland School Inservice Days and Holidays. Single Day camps are currently available to be booked for Fall of the 2025-2026 School Year. \nCancellation: The $25 registration deposit will be issued as a store credit if canceled at least 7 days in advance of the camp day. \nSpace is extremely limited. \nSandwich lunch provided. Families with allergy concerns should contact us and/or provide a lunch from home. \nIn Lloyd Center next door to Floating World Comics! \n1225 Lloyd Center\nPortland\, OR 97232 \nWhen: Various Dates\nWhere: Lloyd Center\nServing: Entering Kindergarten – 4th Grades\nService Area: Portland\nTopic: Lego Camp\nProgram Type: Camp\nCost: $85 ($25 deposit\, $60 due at drop-off)
URL:https://www.af-oregon.org/event/brickdiculous-my-first-lego-camp-single-day-camp/2026-04-03/
LOCATION:Brickdiculous\, 1225 Lloyd Center\, Portland\, 97232\, United States
CATEGORIES:Oregon Student Opportunities
ATTACH;FMTTYPE=image/png:https://www.af-oregon.org/wp-content/uploads/2026/03/Screenshot-2026-03-10-085930.png
END:VEVENT
END:VCALENDAR