BEGIN:VCALENDAR
VERSION:2.0
PRODID:-//Architecture Foundation of Oregon - ECPv6.15.20//NONSGML v1.0//EN
CALSCALE:GREGORIAN
METHOD:PUBLISH
X-ORIGINAL-URL:https://www.af-oregon.org
X-WR-CALDESC:Events for Architecture Foundation of Oregon
REFRESH-INTERVAL;VALUE=DURATION:PT1H
X-Robots-Tag:noindex
X-PUBLISHED-TTL:PT1H
BEGIN:VTIMEZONE
TZID:America/Los_Angeles
BEGIN:DAYLIGHT
TZOFFSETFROM:-0800
TZOFFSETTO:-0700
TZNAME:PDT
DTSTART:20230312T100000
END:DAYLIGHT
BEGIN:STANDARD
TZOFFSETFROM:-0700
TZOFFSETTO:-0800
TZNAME:PST
DTSTART:20231105T090000
END:STANDARD
BEGIN:DAYLIGHT
TZOFFSETFROM:-0800
TZOFFSETTO:-0700
TZNAME:PDT
DTSTART:20240310T100000
END:DAYLIGHT
BEGIN:STANDARD
TZOFFSETFROM:-0700
TZOFFSETTO:-0800
TZNAME:PST
DTSTART:20241103T090000
END:STANDARD
BEGIN:DAYLIGHT
TZOFFSETFROM:-0800
TZOFFSETTO:-0700
TZNAME:PDT
DTSTART:20250309T100000
END:DAYLIGHT
BEGIN:STANDARD
TZOFFSETFROM:-0700
TZOFFSETTO:-0800
TZNAME:PST
DTSTART:20251102T090000
END:STANDARD
END:VTIMEZONE
BEGIN:VEVENT
DTSTART;TZID=America/Los_Angeles:20241203T120000
DTEND;TZID=America/Los_Angeles:20241203T130000
DTSTAMP:20260422T044117
CREATED:20231113T185847Z
LAST-MODIFIED:20250708T184820Z
UID:10000344-1733227200-1733230800@www.af-oregon.org
SUMMARY:Design Advocacy Outreach Group (DAO-G)
DESCRIPTION:The Design Advocacy Outreach Group (DAO-G) meets quarterly with the mission of increasing student access to architecture\, engineering\, construction\, and design (AECD) fields in the state of Oregon. As a group of local partners who are aligned around this shared mission\, DAO-G meetings are a time for us to harness this network to share opportunities for students\, volunteer needs\, resources\, outreach efforts\, and more. \nWondering if you’re the right fit? If you identify with any of these statements\, we encourage you to join our efforts! \n\nYou are passionate about increasing student access and participation in AECD fields – particularly for those who have been historically marginalized and underrepresented in the field\nYou are seeking opportunities to volunteer with and/or contribute to AECD programs for students (Kindergarten – Higher Ed)\nYou are a youth program provider or organization seeking to connect with potential volunteer professionals and spread the word about your program\nYou are an educator looking for opportunities to share with students interested in AECD fields\nYou represent a community group or company that is aligned with our shared mission\n\nJoin DAO-G\n2024 Meeting Schedule: \n\nTuesday\, March 12\, 12-1pm\, Zoom\nTuesday\, June 4\, 12-1pm\, Zoom\nTuesday\, September 10\, 12-1pm\, Zoom\nTuesday\, December 3\, 12-1pm\, Zoom\n\n  \nVisit the DAO-G Miro board for a recap of our discussions. \nQuestions? Contact Candice Agahan\, AFO Education Program Manager\, candice@af-oregon.org\, 503-542-3823
URL:https://www.af-oregon.org/event/design-advocacy-outreach-group-dao-g-5/
CATEGORIES:AFO Events,Community Events,DAO-G
ORGANIZER;CN="Candice Agahan":MAILTO:candice@af-oregon.org
END:VEVENT
BEGIN:VEVENT
DTSTART;TZID=America/Los_Angeles:20241207T093000
DTEND;TZID=America/Los_Angeles:20241207T133000
DTSTAMP:20260422T044117
CREATED:20241205T214650Z
LAST-MODIFIED:20241205T222243Z
UID:10000424-1733563800-1733578200@www.af-oregon.org
SUMMARY:Oregon MESA - College Exploration Day 2024
DESCRIPTION:College Exploration Day 2024\nHosted by Oregon MESA \nJoin Oregon MESA\, UPLIFT Leadership\, & Maseeh Ambassadors for a day of College Exploration at PSU’s College of Engineering & Computer Science! This Saturday event will feature info sessions in the morning\, followed by lunch and refreshments\, and will culminate with a tour of the College! Explore some of the labs\, classrooms and different engineering tracks and hear directly from current college students on their experience. \nThis event is free of cost\, and all Oregon MESA community members are welcome to attend. Live interpretation can be provided upon request\, and a tour of the College in Spanish will also be offered. \nWhen: December 7\, 9:30-1:30pm\nWhere: PSU Maseeh College of Engineering and Computer Science\nServing: All Oregon MESA community members\nService Area: Portland Metro\nTopic: Engineering\nProgram Type: Day Event\nCost: Free \nRegister
URL:https://www.af-oregon.org/event/oregon-mesa-college-exploration-day-2024/
LOCATION:PSU Maseeh College of Engineering and Computer Science\, 1930 SW 4th Ave\, Portland\, Oregon\, 97201
CATEGORIES:Oregon Student Opportunities
END:VEVENT
BEGIN:VEVENT
DTSTART;VALUE=DATE:20241210
DTEND;VALUE=DATE:20241211
DTSTAMP:20260422T044117
CREATED:20241003T170851Z
LAST-MODIFIED:20241003T170851Z
UID:10000406-1733788800-1733875199@www.af-oregon.org
SUMMARY:UW Youth & Teen Program - Architectural Studies I Registration Deadline
DESCRIPTION:Online Architectural Studies I Course\nOrganized by University of Washington Youth & Teen Programs \nWhen: January 6-March 12\, 2025\, Monday & Wednesdays\, 6-7:30pm\nWhere: Online\nServing: 9th-12th graders\nTopic: Architecture\nProgram Type: After-school program\nCost: $675 \nRegister by December 10\n 
URL:https://www.af-oregon.org/event/uw-youth-teen-program-architectural-studies-i-registration-deadline/
CATEGORIES:Oregon Student Opportunities
END:VEVENT
BEGIN:VEVENT
DTSTART;VALUE=DATE:20241215
DTEND;VALUE=DATE:20241216
DTSTAMP:20260422T044117
CREATED:20241120T223814Z
LAST-MODIFIED:20241120T223937Z
UID:10000413-1734220800-1734307199@www.af-oregon.org
SUMMARY:Hip Hop Architecture Scholarship Application Deadline
DESCRIPTION:2024 Michael Ford’s Hip Hop Architecture Scholarship \nOrganized by The Hip Hop Architecture Camp \nThe Michael Ford Hip Hop Architecture Scholarship is back. Thanks to Michigan Central\, they are providing previous Hip Hop Architecture Camp participants and scholarship winners with a $10\,000 scholarship to advance their interest in Architecture\, Urban Planning\, or Interior Design. \nEligibility Requirements\nFor High School Seniors: \n\n\n\nApplicants must have participated in a Hip Hop Architecture Camp and been accepted into a 4-year college in a related field\n\n\n\nFor Current College Students: \n\n\n\n\n\nApplicants should have participated in the Hip Hop Architecture Camp\, Course\, or Internship Program\nBe enrolled in a 4 Year College in a related field\n\n\n\n\n\nThe scholarship is available to former scholarship recipients. \nApplication Deadline: December 15th\, 2024\nScholarship Recipient Announcement: December 30th\, 2024 \nApply by December 15\n 
URL:https://www.af-oregon.org/event/hip-hop-architecture-scholarship-application-deadline/
CATEGORIES:Oregon Student Opportunities
END:VEVENT
END:VCALENDAR