BEGIN:VCALENDAR
VERSION:2.0
PRODID:-//Architecture Foundation of Oregon - ECPv6.15.20//NONSGML v1.0//EN
CALSCALE:GREGORIAN
METHOD:PUBLISH
X-WR-CALNAME:Architecture Foundation of Oregon
X-ORIGINAL-URL:https://www.af-oregon.org
X-WR-CALDESC:Events for Architecture Foundation of Oregon
REFRESH-INTERVAL;VALUE=DURATION:PT1H
X-Robots-Tag:noindex
X-PUBLISHED-TTL:PT1H
BEGIN:VTIMEZONE
TZID:America/Los_Angeles
BEGIN:DAYLIGHT
TZOFFSETFROM:-0800
TZOFFSETTO:-0700
TZNAME:PDT
DTSTART:20240310T100000
END:DAYLIGHT
BEGIN:STANDARD
TZOFFSETFROM:-0700
TZOFFSETTO:-0800
TZNAME:PST
DTSTART:20241103T090000
END:STANDARD
BEGIN:DAYLIGHT
TZOFFSETFROM:-0800
TZOFFSETTO:-0700
TZNAME:PDT
DTSTART:20250309T100000
END:DAYLIGHT
BEGIN:STANDARD
TZOFFSETFROM:-0700
TZOFFSETTO:-0800
TZNAME:PST
DTSTART:20251102T090000
END:STANDARD
BEGIN:DAYLIGHT
TZOFFSETFROM:-0800
TZOFFSETTO:-0700
TZNAME:PDT
DTSTART:20260308T100000
END:DAYLIGHT
BEGIN:STANDARD
TZOFFSETFROM:-0700
TZOFFSETTO:-0800
TZNAME:PST
DTSTART:20261101T090000
END:STANDARD
END:VTIMEZONE
BEGIN:VEVENT
DTSTART;TZID=America/Los_Angeles:20251002T173000
DTEND;TZID=America/Los_Angeles:20251002T193000
DTSTAMP:20260425T081925
CREATED:20250909T182905Z
LAST-MODIFIED:20250909T212720Z
UID:10000597-1759426200-1759433400@www.af-oregon.org
SUMMARY:Dine & Design: Treasured Troll at Nordic Northwest
DESCRIPTION:Design meets sustainability with Nordic Northwest’s cookie-seeking troll\, Ole Bolle!\nHosted by Edward Running and Zach Suchara (Photon Lighting Design) and supported by Richelieu\, FFA Architecture and Interiors\, and Photon Lighting Design. \nSpend a beautiful fall evening with the beloved Ole Bolle\, the only Oregon installation of Northwest Trolls: Way of the Bird King\, a public art project conceived of and led by Scan Design Foundation. Ole Bolle is a part of an international exhibit features giant hand-built trolls by internationally acclaimed environmental artist Thomas Dambo from Denmark. Fashioned entirely out of recycled materials\, the installations turn trash into treasured trolls who tell a tale of protecting nature and honoring our land. This is with a focus on understanding human impact on life in our watersheds and animal habitats. ​ \nEdward Running (FFA Architecture and Interiors\, Nordic Northwest Board member) will lead a tour through the Nordic Northwest campus\, including the Nordia House designed by Brian Melton of DiLoreto Architecture and the historic Fogelbo house. Enjoy cocktails and delicious snacks from acclaimed Nordic restaurant Broder Soder around Ole Bolle the troll while hearing from some of the many volunteers involved in the construction of this whimsical character. \nDon’t miss this delightful evening celebrating sustainability\, art\, and Nordic culture. Children are welcome! \nTreasured Troll at Nordic Northwest\nThursday\, October 2\n5:30-7:30pm\nNordic Northwest\, Portland \nRegister Now\nAFO Members – $40\nNon-AFO Members – $50\nYouth under 14 – Free \nOur summer Dine & Design event series is a fundraiser benefitting AFO programming\, including Architects in Schools and AFO scholarships. Learn more about Dine & Design.
URL:https://www.af-oregon.org/event/dine-design-treasured-troll-at-nordic-northwest/
LOCATION:Nordic Northwest\, 8800 SW Oleson Rd\, Portland\, Oregon\, 97223
CATEGORIES:AFO Events,Dine & Design Events
ATTACH;FMTTYPE=image/png:https://www.af-oregon.org/wp-content/uploads/2025/09/OleBolle-header.png
ORGANIZER;CN="Susan Myers":MAILTO:susan@af-oregon.org
END:VEVENT
BEGIN:VEVENT
DTSTART;TZID=America/Los_Angeles:20251003T180000
DTEND;TZID=America/Los_Angeles:20251003T210000
DTSTAMP:20260425T081925
CREATED:20250911T182519Z
LAST-MODIFIED:20250911T220338Z
UID:10000601-1759514400-1759525200@www.af-oregon.org
SUMMARY:OSU College of Engineering Virtual Talks
DESCRIPTION:Oregon State University College Of Engineering Virtual Talks\nHosted by Oregon State University College of Engineering \nJoin us for a series of online events to connect with Oregon State University College of Engineering students and hear their stories firsthand. \nExplore Engineering Majors\nCurious about what engineers really do? These sessions help you discover the wide range of engineering disciplines offered at Oregon State. Current engineering students will share what their major involves\, the kinds of problems you’ll solve\, and the careers they can lead to. Discover what it’s like from students who live it every day. \nExplore Engineering Communities\nLooking for connection and support as you begin your engineering journey? These sessions explore student organizations and community-based groups at Oregon State that uplift and empower students in STEM. Hear directly from current engineering students about how these groups have shaped their college experience\, provided mentorship\, and built a sense of belonging. While these events highlight specific communities\, everyone is welcome to attend and learn how OSU fosters an inclusive and supportive environment for all future engineers. \nWhen:  \nSeptember 26\, 6-9pm\nOctober 3\, 6-9pm\nOctober 10\, 6-9pm\nOctober 17\, 6-9pm\nOctober 18\, 10am-3pm \nWhere: Online\nServing: High school students\nService Area: Oregon and beyond\nTopic: Engineering\nProgram Type: Virtual presentations\nCost: Free
URL:https://www.af-oregon.org/event/osu-college-of-engineering-virtual-talks/2025-10-03/
CATEGORIES:Oregon Student Opportunities
ATTACH;FMTTYPE=image/jpeg:https://www.af-oregon.org/wp-content/uploads/2025/09/OSU-COE-VirtualSeries2025.jpg
END:VEVENT
BEGIN:VEVENT
DTSTART;TZID=America/Los_Angeles:20251009T180000
DTEND;TZID=America/Los_Angeles:20251009T190000
DTSTAMP:20260425T081925
CREATED:20251008T173852Z
LAST-MODIFIED:20251008T174700Z
UID:10000610-1760032800-1760036400@www.af-oregon.org
SUMMARY:ACE Mentor Program - Virtual Student/Family Info Session
DESCRIPTION:ACE Mentor Program Student/Family Info Session\nOrganized by Portland Workforce Alliance \n\n\nACE will be hosting a virtual student/family info session. Join to learn more about our programming for 2025-26. \n\n\n\n\n\n\n\nWhen: Thursday\, October 9\, 6-7pm\nWhere: Virtual\nServing: High school juniors and seniors\n\n\n\n\n\nService Area: Portland Metro\nTopic: Architecture\, Engineering\, Construction\nProgram Type: After-school program\nCost: Free
URL:https://www.af-oregon.org/event/ace-mentor-program-virtual-student-family-info-session-2/
CATEGORIES:Oregon Student Opportunities
ATTACH;FMTTYPE=image/jpeg:https://www.af-oregon.org/wp-content/uploads/2025/10/ACE-InfoSession.jpg
ORGANIZER;CN="Portland Workforce Alliance":MAILTO:career@portlandworkforcealliance.org
END:VEVENT
BEGIN:VEVENT
DTSTART;TZID=America/Los_Angeles:20251010T180000
DTEND;TZID=America/Los_Angeles:20251010T210000
DTSTAMP:20260425T081925
CREATED:20250911T182519Z
LAST-MODIFIED:20250911T220338Z
UID:10000602-1760119200-1760130000@www.af-oregon.org
SUMMARY:OSU College of Engineering Virtual Talks
DESCRIPTION:Oregon State University College Of Engineering Virtual Talks\nHosted by Oregon State University College of Engineering \nJoin us for a series of online events to connect with Oregon State University College of Engineering students and hear their stories firsthand. \nExplore Engineering Majors\nCurious about what engineers really do? These sessions help you discover the wide range of engineering disciplines offered at Oregon State. Current engineering students will share what their major involves\, the kinds of problems you’ll solve\, and the careers they can lead to. Discover what it’s like from students who live it every day. \nExplore Engineering Communities\nLooking for connection and support as you begin your engineering journey? These sessions explore student organizations and community-based groups at Oregon State that uplift and empower students in STEM. Hear directly from current engineering students about how these groups have shaped their college experience\, provided mentorship\, and built a sense of belonging. While these events highlight specific communities\, everyone is welcome to attend and learn how OSU fosters an inclusive and supportive environment for all future engineers. \nWhen:  \nSeptember 26\, 6-9pm\nOctober 3\, 6-9pm\nOctober 10\, 6-9pm\nOctober 17\, 6-9pm\nOctober 18\, 10am-3pm \nWhere: Online\nServing: High school students\nService Area: Oregon and beyond\nTopic: Engineering\nProgram Type: Virtual presentations\nCost: Free
URL:https://www.af-oregon.org/event/osu-college-of-engineering-virtual-talks/2025-10-10/
CATEGORIES:Oregon Student Opportunities
ATTACH;FMTTYPE=image/jpeg:https://www.af-oregon.org/wp-content/uploads/2025/09/OSU-COE-VirtualSeries2025.jpg
END:VEVENT
BEGIN:VEVENT
DTSTART;TZID=America/Los_Angeles:20251011T100000
DTEND;TZID=America/Los_Angeles:20251115T113000
DTSTAMP:20260425T081925
CREATED:20250819T165156Z
LAST-MODIFIED:20250819T165156Z
UID:10000595-1760176800-1763206200@www.af-oregon.org
SUMMARY:AFSF - Saturday Design Studio
DESCRIPTION:Saturday Design Studio\nHosted by Architectural Foundation of San Francisco (AFSF) \n\nCurious about architecture & design? Want a broader understanding of the architectural profession? Ready for a deep dive into the design process? Want to work on your design skills? Developing work for your portfolio and your presentation skills? Well\, then this is your studio. \nOur architecture studio meets online every Saturday for 6 weeks. We’ll focus on developing using digital design tools. You’ll learn foundational architectural concepts and terms in the iterative design process\, moving from concept to design. At the end of our studio\, you’ll present your project. \n\nWhen: Saturdays\, October 11-November 15\, 10-11:30am\nWhere: Virtual\nServing: High School Students\nService Area: USA\nTopic: Architecture\nProgram Type: Virtual Workshops\nCost: $500
URL:https://www.af-oregon.org/event/afsf-saturday-design-studio-2/
CATEGORIES:Oregon Student Opportunities
ATTACH;FMTTYPE=image/jpeg:https://www.af-oregon.org/wp-content/uploads/2023/09/AFSF-SaturdayDesignStudio23.jpg
END:VEVENT
BEGIN:VEVENT
DTSTART;TZID=America/Los_Angeles:20251016T170000
DTEND;TZID=America/Los_Angeles:20251016T210000
DTSTAMP:20260425T081925
CREATED:20250609T214922Z
LAST-MODIFIED:20251008T181454Z
UID:10000581-1760634000-1760648400@www.af-oregon.org
SUMMARY:2025 Honored Citizen\, Ernesto Fonseca
DESCRIPTION:Celebrating Ernesto Fonseca\nErnesto Fonseca has empowered communities and built meaningful public and private partnerships across the state of Oregon through his role as CEO of Hacienda CDC.   \nErnesto joined Hacienda as CEO in April 2017\, bringing his passion for community development and a belief in the power of connecting families to opportunity. Ernesto’s own story reflects the potential that can be unleashed by investing in all our community members. Raised in a low income but loving family in central Mexico\, Ernesto watched his parents take advantage of educational opportunities and their own initiative to build careers in construction and nursing. They passed on their values of hard work and education to their children\, and Ernesto embraced those values to gain a foothold in this country by initially working in kitchens and restaurants as he pursued his educational goals\, culminating with a Ph.D. from Arizona State University in Environmental Design and Planning.   \nDuring his time in Phoenix\, he spearheaded initiatives to assess the health impacts of community development including gentrification\, access to public transportation\, and affordable housing\, and helped to create the Stardust Center for Affordable Homes & the Family.  \nPortland Mercado\, Scott Edwards Architecture & PLACE\nErnesto believes it is Hacienda’s job to help all families access the critical ingredients they need to achieve their goals: a stable\, affordable home\, a healthy family life that allows youth to learn and grow\, opportunities for economic success\, and access to affordable health care and healthy neighborhoods. He believes in the power of social enterprise to bring increased investment into breaking the cycle of poverty. He joined Hacienda because he shares the same values and experiences with this community and is eager to empower families to flourish like his own has.   \nErnesto is infused in impactful community work through his current board service with the Oregon Community Foundation and the iSector\, as well as past board service with the Prosperity Agenda\, the Energy Trust of Oregon\, Housing Oregon\, and more. He is also one of the Gubernatorial Appointees for Governor Tina Kotek’s Housing Production Advisory Council\, a council of experts charged with developing an action plan to meet ambitious housing construction goals. He has received numerous awards and recognitions for his work in Oregon\, Arizona\, Mexico\, and beyond.  \nLas Adelitas\, Salazar Architect & PLACE\nErnesto’s own story reflects the potential that can be unleashed by investing in our communities.  Ernesto has two kids\, Emma\, 19\, and Emiliano\, 17. Ernesto enjoys hiking\, camping with his wife Susan and kids\, photography\, carpentry\, and politics.  \n2025 Honored Citizen\nEvent Sponsorship by Oregon Community Foundation \nThursday\, October 16\n5pm Reception  |  6:30pm Dinner\nThe Nines Hotel Ballroom\nDowntown Portland \nWe are currently sold out but are assessing our capacity. Please contact Susan Myers (susan@af-oregon.org) about our waitlist.\n  \nThank you to our Sponsors
URL:https://www.af-oregon.org/event/2025-honored-citizen-ernesto-fonseca/
LOCATION:The Nines\, 525 SW Morrison St\, Portland\, Oregon\, 97204
CATEGORIES:AFO Events
ORGANIZER;CN="Susan Myers":MAILTO:susan@af-oregon.org
END:VEVENT
BEGIN:VEVENT
DTSTART;TZID=America/Los_Angeles:20251017T180000
DTEND;TZID=America/Los_Angeles:20251017T210000
DTSTAMP:20260425T081925
CREATED:20250911T182519Z
LAST-MODIFIED:20250911T220338Z
UID:10000603-1760724000-1760734800@www.af-oregon.org
SUMMARY:OSU College of Engineering Virtual Talks
DESCRIPTION:Oregon State University College Of Engineering Virtual Talks\nHosted by Oregon State University College of Engineering \nJoin us for a series of online events to connect with Oregon State University College of Engineering students and hear their stories firsthand. \nExplore Engineering Majors\nCurious about what engineers really do? These sessions help you discover the wide range of engineering disciplines offered at Oregon State. Current engineering students will share what their major involves\, the kinds of problems you’ll solve\, and the careers they can lead to. Discover what it’s like from students who live it every day. \nExplore Engineering Communities\nLooking for connection and support as you begin your engineering journey? These sessions explore student organizations and community-based groups at Oregon State that uplift and empower students in STEM. Hear directly from current engineering students about how these groups have shaped their college experience\, provided mentorship\, and built a sense of belonging. While these events highlight specific communities\, everyone is welcome to attend and learn how OSU fosters an inclusive and supportive environment for all future engineers. \nWhen:  \nSeptember 26\, 6-9pm\nOctober 3\, 6-9pm\nOctober 10\, 6-9pm\nOctober 17\, 6-9pm\nOctober 18\, 10am-3pm \nWhere: Online\nServing: High school students\nService Area: Oregon and beyond\nTopic: Engineering\nProgram Type: Virtual presentations\nCost: Free
URL:https://www.af-oregon.org/event/osu-college-of-engineering-virtual-talks/2025-10-17/
CATEGORIES:Oregon Student Opportunities
ATTACH;FMTTYPE=image/jpeg:https://www.af-oregon.org/wp-content/uploads/2025/09/OSU-COE-VirtualSeries2025.jpg
END:VEVENT
BEGIN:VEVENT
DTSTART;TZID=America/Los_Angeles:20251018T100000
DTEND;TZID=America/Los_Angeles:20251018T150000
DTSTAMP:20260425T081925
CREATED:20250911T182519Z
LAST-MODIFIED:20250911T220338Z
UID:10000604-1760781600-1760799600@www.af-oregon.org
SUMMARY:OSU College of Engineering Virtual Talks
DESCRIPTION:Oregon State University College Of Engineering Virtual Talks\nHosted by Oregon State University College of Engineering \nJoin us for a series of online events to connect with Oregon State University College of Engineering students and hear their stories firsthand. \nExplore Engineering Majors\nCurious about what engineers really do? These sessions help you discover the wide range of engineering disciplines offered at Oregon State. Current engineering students will share what their major involves\, the kinds of problems you’ll solve\, and the careers they can lead to. Discover what it’s like from students who live it every day. \nExplore Engineering Communities\nLooking for connection and support as you begin your engineering journey? These sessions explore student organizations and community-based groups at Oregon State that uplift and empower students in STEM. Hear directly from current engineering students about how these groups have shaped their college experience\, provided mentorship\, and built a sense of belonging. While these events highlight specific communities\, everyone is welcome to attend and learn how OSU fosters an inclusive and supportive environment for all future engineers. \nWhen:  \nSeptember 26\, 6-9pm\nOctober 3\, 6-9pm\nOctober 10\, 6-9pm\nOctober 17\, 6-9pm\nOctober 18\, 10am-3pm \nWhere: Online\nServing: High school students\nService Area: Oregon and beyond\nTopic: Engineering\nProgram Type: Virtual presentations\nCost: Free
URL:https://www.af-oregon.org/event/osu-college-of-engineering-virtual-talks/2025-10-18/
CATEGORIES:Oregon Student Opportunities
ATTACH;FMTTYPE=image/jpeg:https://www.af-oregon.org/wp-content/uploads/2025/09/OSU-COE-VirtualSeries2025.jpg
END:VEVENT
BEGIN:VEVENT
DTSTART;TZID=America/Los_Angeles:20251019T130000
DTEND;TZID=America/Los_Angeles:20251019T160000
DTSTAMP:20260425T081925
CREATED:20251008T172325Z
LAST-MODIFIED:20251008T174225Z
UID:10000607-1760878800-1760889600@www.af-oregon.org
SUMMARY:STEM Like a Girl - Workshop in Wilsonville
DESCRIPTION:Workshop in Wilsonville\nHosted by the STEM Like a Girl \nWhen: Sunday\, October 19th\,  1-4pm\nWhere: Siemens Wilsonville Campus\, 8005 Boeckman Rd\, Wilsonville\, OR 97070\nServing: All girls and female-identifying youth in 3rd – 5th grade and a parent or other adult caregiver\nService Area: Wilsonville\nTopic: Science\, Technology\, Engineering\, Math (STEM)\nProgram Type: Weekend Pop-up Event\nCost: $30 per girl-grown up pair ($20 for additional girls in the same household – Use Promo Code SIBLING). Financial Assistance available by request\, here.
URL:https://www.af-oregon.org/event/stem-like-a-girl-workshop-in-wilsonville/
LOCATION:Siemens Wilsonville Campus\, 8005 Boeckman Rd\, Wilsonville\, Oregon\, 97070
CATEGORIES:Oregon Student Opportunities
ATTACH;FMTTYPE=image/jpeg:https://www.af-oregon.org/wp-content/uploads/2025/10/STEMLikeAGirl.jpg
END:VEVENT
BEGIN:VEVENT
DTSTART;TZID=America/Los_Angeles:20251026T130000
DTEND;TZID=America/Los_Angeles:20251026T160000
DTSTAMP:20260425T081925
CREATED:20251008T172752Z
LAST-MODIFIED:20251008T174244Z
UID:10000608-1761483600-1761494400@www.af-oregon.org
SUMMARY:STEM Like a Girl - Workshop in Eugene
DESCRIPTION:Workshop in Eugene\nHosted by the STEM Like a Girl \nWhen: Sunday\, October 26th\,  1-4pm\nWhere: Campbell Community Center East Hall\, 155 High St\, Eugene\, OR 97401\nServing: All girls and female-identifying youth in 3rd – 5th grade and a parent or other adult caregiver\nService Area: Eugene\nTopic: Science\, Technology\, Engineering\, Math (STEM)\nProgram Type: Weekend Pop-up Event\nCost: $30 per girl-grown up pair ($20 for additional girls in the same household – Use Promo Code SIBLING). Financial Assistance available by request\, here.
URL:https://www.af-oregon.org/event/stem-like-a-girl-workshop-in-eugene/
LOCATION:Campbell Community Center East Hall\, 155 High St\, Eugene\, OR\, 97401\, United States
CATEGORIES:Oregon Student Opportunities
ATTACH;FMTTYPE=image/jpeg:https://www.af-oregon.org/wp-content/uploads/2025/10/STEMLikeAGirl2.jpg
END:VEVENT
BEGIN:VEVENT
DTSTART;TZID=America/Los_Angeles:20251026T130000
DTEND;TZID=America/Los_Angeles:20251026T160000
DTSTAMP:20260425T081925
CREATED:20251008T173118Z
LAST-MODIFIED:20251008T174247Z
UID:10000609-1761483600-1761494400@www.af-oregon.org
SUMMARY:STEM Like a Girl - Workshop in Albany
DESCRIPTION:Workshop in Albany\nHosted by the STEM Like a Girl \nWhen: Sunday\, October 26th\,  1-4pm\nWhere: Linn Benton Lincoln ESD\, 905 SE 4th Ave\, Albany\, OR 97321\nServing: All girls and female-identifying youth in 3rd – 5th grade and a parent or other adult caregiver\nService Area: Albany\nTopic: Science\, Technology\, Engineering\, Math (STEM)\nProgram Type: Weekend Pop-up Event\nCost: $30 per girl-grown up pair ($20 for additional girls in the same household – Use Promo Code SIBLING). Financial Assistance available by request\, here.
URL:https://www.af-oregon.org/event/stem-like-a-girl-workshop-in-albany/
LOCATION:Linn Benton Lincoln ESD\, 905 SE 4th Ave\, Albany\, Oregon\, 97321
CATEGORIES:Oregon Student Opportunities
ATTACH;FMTTYPE=image/jpeg:https://www.af-oregon.org/wp-content/uploads/2025/10/STEMLikeAGirl3.jpg
END:VEVENT
END:VCALENDAR