BEGIN:VCALENDAR
VERSION:2.0
PRODID:-//Architecture Foundation of Oregon - ECPv6.15.20//NONSGML v1.0//EN
CALSCALE:GREGORIAN
METHOD:PUBLISH
X-WR-CALNAME:Architecture Foundation of Oregon
X-ORIGINAL-URL:https://www.af-oregon.org
X-WR-CALDESC:Events for Architecture Foundation of Oregon
REFRESH-INTERVAL;VALUE=DURATION:PT1H
X-Robots-Tag:noindex
X-PUBLISHED-TTL:PT1H
BEGIN:VTIMEZONE
TZID:America/Los_Angeles
BEGIN:DAYLIGHT
TZOFFSETFROM:-0800
TZOFFSETTO:-0700
TZNAME:PDT
DTSTART:20240310T100000
END:DAYLIGHT
BEGIN:STANDARD
TZOFFSETFROM:-0700
TZOFFSETTO:-0800
TZNAME:PST
DTSTART:20241103T090000
END:STANDARD
BEGIN:DAYLIGHT
TZOFFSETFROM:-0800
TZOFFSETTO:-0700
TZNAME:PDT
DTSTART:20250309T100000
END:DAYLIGHT
BEGIN:STANDARD
TZOFFSETFROM:-0700
TZOFFSETTO:-0800
TZNAME:PST
DTSTART:20251102T090000
END:STANDARD
BEGIN:DAYLIGHT
TZOFFSETFROM:-0800
TZOFFSETTO:-0700
TZNAME:PDT
DTSTART:20260308T100000
END:DAYLIGHT
BEGIN:STANDARD
TZOFFSETFROM:-0700
TZOFFSETTO:-0800
TZNAME:PST
DTSTART:20261101T090000
END:STANDARD
END:VTIMEZONE
BEGIN:VEVENT
DTSTART;TZID=America/Los_Angeles:20250510T110000
DTEND;TZID=America/Los_Angeles:20250511T160000
DTSTAMP:20260421T041545
CREATED:20250416T174114Z
LAST-MODIFIED:20250416T174114Z
UID:10000569-1746874800-1746979200@www.af-oregon.org
SUMMARY:Architects in Schools Exhibit - Art in Bloom
DESCRIPTION:You are invited to an event celebrating the hard work of our 2024-25 Architects in Schools students in Southern Oregon! This is our culminating event of the season\, where participating students exhibit the work they have completed during their Architects in Schools residencies. \nThis Architects in Schools season was another huge success\, reaching thousands of students across the state of Oregon. Over 150 design and building professionals have spent over 3\,000 volunteer hours in classrooms this year\, educating students on the built environment and the process of designing and building communities. \nStudent work will be exhibited at Art in Bloom on May 10 from 11:00am-5:00pm and May 11 from 11:00am-4:00pm. The exhibit is free\, kid friendly and open to the public. \nArchitects in Schools Exhibit Reception\nArt in Bloom\nSaturday\, May 10\, 11:00am-5:00pm\nSunday\, May 11\, 11:00am-4:00pm\nDowntown Medford\, near Lithia Commons
URL:https://www.af-oregon.org/event/architects-in-schools-exhibit-art-in-bloom/
LOCATION:Oregon
CATEGORIES:AFO Events,Community Events,Oregon Student Opportunities
ATTACH;FMTTYPE=image/jpeg:https://www.af-oregon.org/wp-content/uploads/2025/03/AiSExhibitBanner_2025.jpg
ORGANIZER;CN="Kim Knowles":MAILTO:kim@af-oregon.org
END:VEVENT
BEGIN:VEVENT
DTSTART;VALUE=DATE:20250515
DTEND;VALUE=DATE:20250520
DTSTAMP:20260421T041545
CREATED:20250313T172421Z
LAST-MODIFIED:20250324T234302Z
UID:10000477-1747267200-1747699199@www.af-oregon.org
SUMMARY:2025 Michael Ford’s Hip Hop Architecture Scholarship
DESCRIPTION:2025 Michael ford hiphop architecture scholarship\nOrganized by Hip Hop Architecture \nThe Michael Ford Hip Hop Architecture Scholarship is back! Thanks to our sponsor Michigan Central\, we are providing previous Hip Hop Architecture Camp participants\, and scholarship winners with a $10\,000.00 scholarship to advance their interest in Architecture\, Urban Planning\, or Interior Design. \nEligibility Requirements: \nFor High School Seniors: \n\nApplicants must have participated in a previous Hip Hop Architecture Camp and must accepted into a 4-year college or university to study architecture or a related field.\n\nFor Current College Students: \n\nApplicants should have participated in the Hip Hop Architecture Camp\, Course\, or Internship Program.\nBe enrolled in a 4 Year College in a related field.\nThe scholarship is available to former scholarship recipients.\nApplication Deadline: May 15\, 2025\nScholarship Recipient Announcement: June 9\, 2025\n\nWhen: Thursday\, May 15th\, 2025 DEADLINE\nWhere: Online Application\nServing: High School and College students\nService Area: Nationwide\nTopic: Architecture\, Urban Planning\, or Interior Design\nProgram Type: Scholarship\nCost: Free \nApply\n 
URL:https://www.af-oregon.org/event/2025-michael-fords-hip-hop-architecture-scholarship/
LOCATION:Oregon
CATEGORIES:Oregon Student Opportunities
ATTACH;FMTTYPE=image/png:https://www.af-oregon.org/wp-content/uploads/2025/03/Screenshot-2025-03-13-101201.png
END:VEVENT
BEGIN:VEVENT
DTSTART;VALUE=DATE:20250516
DTEND;VALUE=DATE:20250517
DTSTAMP:20260421T041545
CREATED:20250422T194527Z
LAST-MODIFIED:20250422T194621Z
UID:10000571-1747353600-1747439999@www.af-oregon.org
SUMMARY:MESA Day 2025
DESCRIPTION:mesa day 2025\nHosted by Oregon MESA \nWe are so excited to announce MESA’s culminating event of the year: MESA Day 2025\, happening on Friday\, May 16th 2025!  The event is an opportunity for all of our middle and high school students to engage in hands-on competition\, career exploration\, and college preparation.   \nAfter showcasing their projects last month at Demo Day\, our young inventors will travel from all over the state to the Portland State University campus from to participate in engineering challenges centered around the theme of Climate Action: Designing for Environmental Sustainability\, meet inspiring STEM professionals\, visit college booths\, and showcase their annual projects. \nWhile MESA Day isn’t open to the public\, we hope you will join us as a volunteer during the event on May 16th and on the days leading up to it! Joining us as a volunteer is the perfect way to support our mission of a more equitable STEM future and get a front row seat to witness our students’ ingenuity! You can bring your company or organization to MESA Day and join us with your team\, or you can explore the wide variety of individual roles and shifts we are offering our MESA volunteers. Check out our volunteer form and sign up today! \nWhen: Friday\, May 16th\nWhere: Portland State University\nServing: 6th-12th grade students\nService Area: Oregon\nTopic: STEM\, Environmental Design\nProgram Type: Event\nCost: Free
URL:https://www.af-oregon.org/event/mesa-day-2025/
LOCATION:Portland State University\, 1825 SW Broadway\, Portland\, 97201\, United States
CATEGORIES:Oregon Student Opportunities
ATTACH;FMTTYPE=image/png:https://www.af-oregon.org/wp-content/uploads/2025/04/Screenshot-2025-04-22-124430.png
END:VEVENT
BEGIN:VEVENT
DTSTART;VALUE=DATE:20250516
DTEND;VALUE=DATE:20250517
DTSTAMP:20260421T041545
CREATED:20250313T161138Z
LAST-MODIFIED:20250313T183007Z
UID:10000475-1747353600-1747439999@www.af-oregon.org
SUMMARY:ASFS - High School Design Competition
DESCRIPTION:ASFS – High School design competition\nHosted by Architectural Foundation of San Fransisco  \nWe are pleased to invite you to participate in the Architectural Foundation of San Francisco’s Fifty-Sixth annual High School Design Competition. This is an exciting competition where high school students put their design skills\, creativity\, spatial and analytical thinking and craftsmanship to the test. With the guidance of instructors – or in some cases for those who opt to treat this creative challenge as an independent study endeavor – high school students conceptualize a design and communicate their solutions through drawings\, models and writing. Participation in this design exercise is open to all high school levels students throughout the world. This competition provides young thinkers with the opportunity to engage in what is a very unique learning project. \nThe Architectural Foundation of San Francisco is a nonprofit educational organization that involves students in a\nmentored appreciation of architecture\, engineering\, construction and the design process. San Francisco reigns as one of the most architecturally significant and beautiful cities in the world. The environment of architectural diversity is extremely important to the vitality of this great city. Everywhere\, the vibrant and complex layering of landscape\,\ncolor\, cultures and light produces experiences that unexpectedly reveal themselves. Since its inception in 1990\, the Architectural Foundation of San Francisco has endeavored to reach out to the general public both locally and globally to establish an open dialogue on the architectural future of this community and beyond. \nTo receive more information about the Architectural Foundation of San Francisco\, please visit www.afsf.org or email Executive Director\, Alan Sandler\, at alan@afsf.org. \nFor specific competition-related inquiries and/or to receive\ncompetition updates\, please contact Ryan Lee at ryan@afsf.org. \nCompetition Information: PDF \nWhen: Competition Entries Due: Friday\, May 16th\, 2025\nWhere: Online\nServing: All High School students\nService Area: Worldwide\nTopic: Civil Engineering\nProgram Type: Competition\nCost: $0 \nTo Register\, Email ryan@afsf.org
URL:https://www.af-oregon.org/event/asfs-high-school-design-competition/
LOCATION:Oregon
CATEGORIES:Oregon Student Opportunities
ATTACH;FMTTYPE=image/png:https://www.af-oregon.org/wp-content/uploads/2025/03/Screenshot-2025-03-13-091048.png
END:VEVENT
BEGIN:VEVENT
DTSTART;VALUE=DATE:20250516
DTEND;VALUE=DATE:20250517
DTSTAMP:20260421T041545
CREATED:20250305T002332Z
LAST-MODIFIED:20250313T174355Z
UID:10000471-1747353600-1747439999@www.af-oregon.org
SUMMARY:Oregon Tradeswomen's Career Fair
DESCRIPTION:Oregon Tradeswomen’s Career Fair\nHosted by Oregon Tradeswomen \nWhile focused on presenting these career options to female-identified job seekers\, Oregon Tradeswomen’s Career Fair is open to everyone! Most workshops are managed by tradeswomen\, demonstrating the power and potential of a truly diverse workforce. \nOregon Tradeswomen’s goal is to offer middle and high school students a unique educational opportunity\, and introduce the many career options available in the trades where they can earn while they learn and access debt-free career education! \nSchool Day at Oregon Tradeswomen’s annual Career Fair offers a unique\, hands-on opportunity for students to learn about apprenticeship and career training opportunities after high school without the burden of college debt. \nThe interactive\, hands-on learning opportunities allow students to use the tools of the trades\, talk directly with tradeswomen about the work they do\, and gain knowledge about satisfying\, high-paying careers in the construction trades. \nAll students are welcome to attend\, including students of CTE programs\, and other organized youth groups. \nWhen: Friday\, May 16th\nWhere: NECA-IBEW Electrical Training Center\nServing: Middle School & High School Students\nService Area: Portland Metro\nTopic: Several career paths\nProgram Type: Career Fair\nCost: Free \nRegister Your School\n 
URL:https://www.af-oregon.org/event/oregon-tradeswomens-career-fair/
LOCATION:NECA-IBEW Electrical Training Center\, 16021 Northeast Airport Way\, Portland\, Oregon\, 97230
CATEGORIES:Oregon Student Opportunities
ATTACH;FMTTYPE=image/png:https://www.af-oregon.org/wp-content/uploads/2025/03/Screenshot-2025-03-13-091516.png
END:VEVENT
BEGIN:VEVENT
DTSTART;TZID=America/Los_Angeles:20250517T110000
DTEND;TZID=America/Los_Angeles:20250517T170000
DTSTAMP:20260421T041545
CREATED:20250327T181018Z
LAST-MODIFIED:20250327T181044Z
UID:10000492-1747479600-1747501200@www.af-oregon.org
SUMMARY:Architects in Schools Exhibit - OMSI
DESCRIPTION:You are invited to an event celebrating the hard work of our 2024-25 Architects in Schools students in the Portland Metro area! This is our culminating event of the season\, where participating students exhibit the work they have completed during their Architects in Schools residencies. \nThis Architects in Schools season was another huge success\, reaching thousands of students across the state of Oregon. Over 150 design and building professionals have spent over 3\,000 volunteer hours in classrooms this year\, educating students on the built environment and the process of designing and building communities. \nStudent work will be exhibited at OMSI on May 17 from 11am-5pm. Each exhibiting student receives free OMSI admission for themselves and one guest. All other guests will need to purchase OMSI admission (purchase here). The exhibit is kid friendly and open to the public. \nWant to help bring AiS exhibits to life? Sign up to volunteer! \nArchitects in Schools Exhibit Reception\nOMSI\nSaturday\, May 17\n11:00am-5:00pm\nOMSI – Oregon Museum of Science and Industry\n1945 SE Water Ave\, Portland\, OR 97214
URL:https://www.af-oregon.org/event/architects-in-schools-exhibit-omsi-2025/
LOCATION:OMSI\, 1945 SE Water Ave\, Portland\, Oregon\, 97214
CATEGORIES:AFO Events,Community Events,Oregon Student Opportunities
ATTACH;FMTTYPE=image/jpeg:https://www.af-oregon.org/wp-content/uploads/2025/03/AiSExhibitBanner_2025.jpg
ORGANIZER;CN="Candice Agahan":MAILTO:candice@af-oregon.org
GEO:45.5079998;-122.6656206
X-APPLE-STRUCTURED-LOCATION;VALUE=URI;X-ADDRESS=OMSI 1945 SE Water Ave Portland Oregon 97214;X-APPLE-RADIUS=500;X-TITLE=1945 SE Water Ave:geo:-122.6656206,45.5079998
END:VEVENT
END:VCALENDAR