BEGIN:VCALENDAR
VERSION:2.0
PRODID:-//Architecture Foundation of Oregon - ECPv6.15.20//NONSGML v1.0//EN
CALSCALE:GREGORIAN
METHOD:PUBLISH
X-ORIGINAL-URL:https://www.af-oregon.org
X-WR-CALDESC:Events for Architecture Foundation of Oregon
REFRESH-INTERVAL;VALUE=DURATION:PT1H
X-Robots-Tag:noindex
X-PUBLISHED-TTL:PT1H
BEGIN:VTIMEZONE
TZID:America/Los_Angeles
BEGIN:DAYLIGHT
TZOFFSETFROM:-0800
TZOFFSETTO:-0700
TZNAME:PDT
DTSTART:20240310T100000
END:DAYLIGHT
BEGIN:STANDARD
TZOFFSETFROM:-0700
TZOFFSETTO:-0800
TZNAME:PST
DTSTART:20241103T090000
END:STANDARD
BEGIN:DAYLIGHT
TZOFFSETFROM:-0800
TZOFFSETTO:-0700
TZNAME:PDT
DTSTART:20250309T100000
END:DAYLIGHT
BEGIN:STANDARD
TZOFFSETFROM:-0700
TZOFFSETTO:-0800
TZNAME:PST
DTSTART:20251102T090000
END:STANDARD
BEGIN:DAYLIGHT
TZOFFSETFROM:-0800
TZOFFSETTO:-0700
TZNAME:PDT
DTSTART:20260308T100000
END:DAYLIGHT
BEGIN:STANDARD
TZOFFSETFROM:-0700
TZOFFSETTO:-0800
TZNAME:PST
DTSTART:20261101T090000
END:STANDARD
END:VTIMEZONE
BEGIN:VEVENT
DTSTART;TZID=America/Los_Angeles:20251011T100000
DTEND;TZID=America/Los_Angeles:20251115T113000
DTSTAMP:20260423T042838
CREATED:20250819T165156Z
LAST-MODIFIED:20250819T165156Z
UID:10000595-1760176800-1763206200@www.af-oregon.org
SUMMARY:AFSF - Saturday Design Studio
DESCRIPTION:Saturday Design Studio\nHosted by Architectural Foundation of San Francisco (AFSF) \n\nCurious about architecture & design? Want a broader understanding of the architectural profession? Ready for a deep dive into the design process? Want to work on your design skills? Developing work for your portfolio and your presentation skills? Well\, then this is your studio. \nOur architecture studio meets online every Saturday for 6 weeks. We’ll focus on developing using digital design tools. You’ll learn foundational architectural concepts and terms in the iterative design process\, moving from concept to design. At the end of our studio\, you’ll present your project. \n\nWhen: Saturdays\, October 11-November 15\, 10-11:30am\nWhere: Virtual\nServing: High School Students\nService Area: USA\nTopic: Architecture\nProgram Type: Virtual Workshops\nCost: $500
URL:https://www.af-oregon.org/event/afsf-saturday-design-studio-2/
CATEGORIES:Oregon Student Opportunities
ATTACH;FMTTYPE=image/jpeg:https://www.af-oregon.org/wp-content/uploads/2023/09/AFSF-SaturdayDesignStudio23.jpg
END:VEVENT
BEGIN:VEVENT
DTSTART;TZID=America/Los_Angeles:20251026T130000
DTEND;TZID=America/Los_Angeles:20251026T160000
DTSTAMP:20260423T042838
CREATED:20251008T172752Z
LAST-MODIFIED:20251008T174244Z
UID:10000608-1761483600-1761494400@www.af-oregon.org
SUMMARY:STEM Like a Girl - Workshop in Eugene
DESCRIPTION:Workshop in Eugene\nHosted by the STEM Like a Girl \nWhen: Sunday\, October 26th\,  1-4pm\nWhere: Campbell Community Center East Hall\, 155 High St\, Eugene\, OR 97401\nServing: All girls and female-identifying youth in 3rd – 5th grade and a parent or other adult caregiver\nService Area: Eugene\nTopic: Science\, Technology\, Engineering\, Math (STEM)\nProgram Type: Weekend Pop-up Event\nCost: $30 per girl-grown up pair ($20 for additional girls in the same household – Use Promo Code SIBLING). Financial Assistance available by request\, here.
URL:https://www.af-oregon.org/event/stem-like-a-girl-workshop-in-eugene/
LOCATION:Campbell Community Center East Hall\, 155 High St\, Eugene\, OR\, 97401\, United States
CATEGORIES:Oregon Student Opportunities
ATTACH;FMTTYPE=image/jpeg:https://www.af-oregon.org/wp-content/uploads/2025/10/STEMLikeAGirl2.jpg
END:VEVENT
BEGIN:VEVENT
DTSTART;TZID=America/Los_Angeles:20251026T130000
DTEND;TZID=America/Los_Angeles:20251026T160000
DTSTAMP:20260423T042838
CREATED:20251008T173118Z
LAST-MODIFIED:20251008T174247Z
UID:10000609-1761483600-1761494400@www.af-oregon.org
SUMMARY:STEM Like a Girl - Workshop in Albany
DESCRIPTION:Workshop in Albany\nHosted by the STEM Like a Girl \nWhen: Sunday\, October 26th\,  1-4pm\nWhere: Linn Benton Lincoln ESD\, 905 SE 4th Ave\, Albany\, OR 97321\nServing: All girls and female-identifying youth in 3rd – 5th grade and a parent or other adult caregiver\nService Area: Albany\nTopic: Science\, Technology\, Engineering\, Math (STEM)\nProgram Type: Weekend Pop-up Event\nCost: $30 per girl-grown up pair ($20 for additional girls in the same household – Use Promo Code SIBLING). Financial Assistance available by request\, here.
URL:https://www.af-oregon.org/event/stem-like-a-girl-workshop-in-albany/
LOCATION:Linn Benton Lincoln ESD\, 905 SE 4th Ave\, Albany\, Oregon\, 97321
CATEGORIES:Oregon Student Opportunities
ATTACH;FMTTYPE=image/jpeg:https://www.af-oregon.org/wp-content/uploads/2025/10/STEMLikeAGirl3.jpg
END:VEVENT
END:VCALENDAR